BEGIN:VCALENDAR
VERSION:2.0
PRODID:-//ACES - ECPv6.15.18//NONSGML v1.0//EN
CALSCALE:GREGORIAN
METHOD:PUBLISH
X-WR-CALNAME:ACES
X-ORIGINAL-URL:https://aces4me.com
X-WR-CALDESC:Events for ACES
REFRESH-INTERVAL;VALUE=DURATION:PT1H
X-Robots-Tag:noindex
X-PUBLISHED-TTL:PT1H
BEGIN:VTIMEZONE
TZID:UTC
BEGIN:STANDARD
TZOFFSETFROM:+0000
TZOFFSETTO:+0000
TZNAME:UTC
DTSTART:20240101T000000
END:STANDARD
END:VTIMEZONE
BEGIN:VEVENT
DTSTART;VALUE=DATE:20251204
DTEND;VALUE=DATE:20251208
DTSTAMP:20260422T152640
CREATED:20250317T191227Z
LAST-MODIFIED:20250814T221105Z
UID:1004-1764806400-1765151999@aces4me.com
SUMMARY:DNS Exercise 1 & 2 - Dominican Republic - Dec 4-7\, 2025
DESCRIPTION:DNS Exercise 1 course: Dec. 4-5\nDynamic Neuromuscular Stabilization according to Kolar (DNS)\nA Developmental Kinesiology Approach \nLearn more here: https://kineticunion.com/cursos/deportivo-1-dic25-repdom \n  \n\n  \nDNS Exercise 2 course: Dec. 6-7\nDynamic Neuromuscular Stabilization according to Kolar (DNS)\nA Developmental Kinesiology Approach \nhttps://kineticunion.com/cursos/deportivo-2-dic25-repdom \n  \n\n  \nRegistration and Payment Details:\nFill out this registration form with Kinetic Union \nSponsored by kineticunion.com \n 
URL:https://aces4me.com/event/dns-exercise-1-and-2-dominican-republic/
LOCATION:San Diego Padres Baseball Club\, 7VXH+VW6 Carlos Pintos\, Dominican Republic\, Dominican Republic
CATEGORIES:Upcoming Events
ATTACH;FMTTYPE=image/png:https://aces4me.com/wp-content/uploads/2025/03/DNS-Exercise-1-and-2.png
END:VEVENT
BEGIN:VEVENT
DTSTART;VALUE=DATE:20251025
DTEND;VALUE=DATE:20251027
DTSTAMP:20260422T152640
CREATED:20250313T203023Z
LAST-MODIFIED:20250814T220338Z
UID:1487-1761350400-1761523199@aces4me.com
SUMMARY:DNS Practitioner's Course B - New York - Oct. 25-26\, 2025
DESCRIPTION:DNS Course “B”\, Buffalo\, NY Details: \nDynamic Neuromuscular Stabilization according to Kolar (DNS)\nA Developmental Kinesiology Approach \nThis ACES DNS “B” Compact Course includes 18 contact hours of instruction over two (2) days instead of the typical Three (3)-day DNS A Course! \nCourse B Summary: \n\nDemonstrate an understanding of developmental kinesiology and its relationship with pathology of the locomotor system: review theory covered in the A course and introduce more advanced theory\, namely the verticalization process\nDescribe the basis for primitive reflexes and postural reactions and their roles in developmental kinesiology\nIntroduce basic information about reflex locomotion according to Vojta\nPerform demonstration of assessments of babies: attendees will be able to recognize ideal and disturbed locomotor patterns and determine developmental age of the babies\nDemonstrate and teach proper handling of infants\nDemonstration application of DNS assessment and treatment in adult patients with pain and dysfunction within the locomotor system – stabilization assessment and treatment strategy\nPostural analysis & testing of integrated spinal stabilization system – review of Course A tests and introduction to additional\, advanced tests\nIntegration of corrective exercises based on newly taught DNS functional tests\nExercise in differentiated ipsilateral and contralateral static positions\, position transfer during locomotor function\, exercise progression using unstable surface\, resistance against “planned movement\,” dual tasking and other challenges both in ipsi and contralateral patterns\, transition between ipsilateral and contralateral patterns\, training of isolated segmental movement\nIntroduction to cortical functioning – body scheme\, quality of relaxation\, isolated segmental movements\nProvide more complex clinical management explanation for clinicians to better integrate more advanced DNS protocols into clinical practice\nOptimally prepare students for the next level of training (Course “C”)\n\nSponsored by MSK-plus.ca. \nNOTE: Class size is limited to only 15 students\, so sign up quickly!\n\nCertification and Examination Details:\nA Certificate of ATTENDANCE will be awarded by local instructor \nOPTIONAL EXAMINATION \nParticipants who would like to participate in the educational track towards becoming a certified practitioner can take this exam for an additional fee of 130 Euros. This is the second payment link above. \nThe test will consist of an analysis of babies at various developmental stages . Web link to view videos will be mailed to participant for analysis. Participants are advised to return the test to the DNS instructor within 2 months after the course. Upon successful completion and passing of the test\, a Certificate of ACHIEVEMENT from Prague School of Rehabilitation will be awarded. \nMay only re-take the test 3 times. Otherwise\, the clinician would be required to repeat one or more courses before re-qualifying for certification testing. \n  \n\nRegistration Must Be Completed through MSK:\nCourse Registration:\nAccess the MSK-plus.ca Website for the Registration Process →
URL:https://aces4me.com/event/dns-practitioners-course-b-new-york-oct-25-26
LOCATION:Buffalo\, 500 Seneca Street\, Buffalo\, NY\, 14204\, United States
CATEGORIES:Upcoming Events
ATTACH;FMTTYPE=image/png:https://aces4me.com/wp-content/uploads/2025/03/DNS-B-COURSE-Oct-25-26-e1748897004539.png
ORGANIZER;CN="Craig E. Morris%2C D.C.":MAILTO:doc@aces4me.com
END:VEVENT
BEGIN:VEVENT
DTSTART;VALUE=DATE:20250927
DTEND;VALUE=DATE:20250929
DTSTAMP:20260422T152640
CREATED:20250317T134013Z
LAST-MODIFIED:20250814T220548Z
UID:1485-1758931200-1759103999@aces4me.com
SUMMARY:DNS Practitioner's Course A - New York - Sept. 27-28\, 2025
DESCRIPTION:DNS Course “A”\, Buffalo\, NY Details: \nDynamic Neuromuscular Stabilization according to Kolar (DNS)\nA Developmental Kinesiology Approach\nDNS “A” Course & Certification Summary: \n\nImprove understanding of the basic principles of developmental kinesiology\, emphasizing development during the first year of life.\nIdentify and describe critical milestones in human development.\nIntroduce the three levels of sensorimotor control in functional assessment and treatment.\nDemonstrate the relationship between development during the first year of life and pathology of the locomotor system in adulthood.\nIntroduce new terminologies pertinent to rehabilitation\, such as functional joint centration\, punctum fixum\, punctum mobile and the integrated stabilizing system of the spine.\nDefine ideal postural stabilization from a developmental perspective: intra-abdominal pressure regulation\, the dual role of the diaphragm in stabilization and respiration\, and stabilization via co-contraction.\nIdentify common stereotypes of faulty postural stabilization (“open scissors syndrome\,” forward drawn posture\, backward drawn posture\, “hourglass syndrome”).\nExplain and demonstrate biomechanics of undifferentiated\, ipsilateral and contralateral postural-locomotion patterns; closed and opened kinematic chains\, stepping forward and supporting function.\nEvaluate and correct poor respiratory patterns.\nDemonstrate the correlation between poor respiration patterns and functional pathology of the locomotor system.\nAssess the integrated stabilizing system of the spine visually and by utilizing dynamic functional tests.\nIntegrate corrective exercises based on the DNS functional tests and developmental positions: exercise in undifferentiated static positions; position transfer during locomotor function; exercise progression using unstable surfaces; increased difficulty of the exercises utilizing resistance\, dual tasking and other challenges.\nClarify how DNS corrective exercises can integrate with other exercise strategies.\nCover the basics of the application of the DNS concept in sports training.\nProvide essential clinical management explanations for clinicians to better integrate the DNS approach in their regular practice\, including patient education.\nOptimally prepare students for the next level of training (Course “B”).\n\nA Certificate of ATTENDANCE will be awarded by local instructor\nOPTIONAL EXAMINATION\nParticipants who would like to participate in the educational track towards becoming a certified practitioner can take this exam. Go to the Prague School website – www.rehabps.com – for more information. The DNS A test is completely automatic and online. \nUpon successful completion and passing of the test\, a Certificate of ACHIEVEMENT from Prague School of Rehabilitation will be awarded. \nNOTE: Our class sizes are limited to 15 students\, so sign up quickly!\nSponsored by MSK-plus.ca. \n\nRegistration Must Be Completed through MSK:\nCourse Registration: Access the MSK-plus.ca Website for the Registration Process →
URL:https://aces4me.com/event/dns-practitioners-course-a-new-york-sept-27-28
LOCATION:Buffalo\, 500 Seneca Street\, Buffalo\, NY\, 14204\, United States
CATEGORIES:Upcoming Events
ATTACH;FMTTYPE=image/png:https://aces4me.com/wp-content/uploads/2025/03/DNS-A-COURSE-Sept-27-28-e1748896867657.png
ORGANIZER;CN="Craig E. Morris%2C D.C.":MAILTO:doc@aces4me.com
END:VEVENT
BEGIN:VEVENT
DTSTART;VALUE=DATE:20250905
DTEND;VALUE=DATE:20250908
DTSTAMP:20260422T152640
CREATED:20250113T164510Z
LAST-MODIFIED:20250814T215130Z
UID:1440-1757030400-1757289599@aces4me.com
SUMMARY:DNS Pediatrics 1 Course - Tulsa/Broken Arrow\, OK - September 5-7 2025
DESCRIPTION:3-Day DNS Pediatrics 1 Course \n“Pediatrics 1” Details: 24-hours – NOW Approved for Continuing Education Credits in the State of Oklahoma!!\nDynamic Neuromuscular Stabilization according to Kolar (DNS) \nA Developmental Kinesiology Approach \nThis ACES DNS “Peds 1” Compact Course includes 24 contact hours of instruction over three (3) days instead of the typical four (4)-day DNS Pediatrics 1 Course! \nDYNAMIC NEUROMUSCULAR REHABILITATION (DNS) COURSE OBJECTIVES: \nPediatric course part 1 (24 contact hours) \nThis is a 4-day (6 HOURS/DAY) course condensed to THREE 8-hour days (“ACES4ME Condensed” programming) for attendees who work with pediatric clients. \n\nDemonstrate an understanding of developmental kinesiology in depth with an emphasis on development during the first year of life. Basic sagittal stabilization\, postural-locomotion function\, stepping forward and supporting extremity function\nDescribe the basis for primitive reflexes and postural reactions and their roles in developmental kinesiology\nRed flags in the development during the first year of life\nAssessment of baby’s developmental age. Developmental and chronological age correlation (baby demonstration)\nDescribe the relationship between development during the first year of life and pathology of the locomotor system in adulthood\nAssess the integrated stabilizing system of the spine both visually and utilizing dynamic functional DNS tests in children\nClarify how DNS corrective exercises can integrate with other exercise strategies\nEvaluate and correct poor respiratory patterns\nDNS principles for baby handling in positions that corresponds to developmental positions of the baby age 0-7m. Devices used for carrying babies\, yes or no\, how and why?\nChild with asymmetry (oblique neck\, oblique pelvis\, plagiocephaly and their consequences to the development)\nDemonstrations of baby assessment and treatment based on DNS principles\nToddlers and preschool children exercises according to DNS\, basic positions without differentiation\n\nAfter the DNS Pediatric 1 course participants should be able to assess the spontaneous locomotor function of a child and distinguish between physiological and pathological movement pattern. The emphasis is put on assessment of quality of a movement and assessment of the basic primitive reflexes. \nView Course Gallery \n\nRegistration Must Be Completed in Two Parts:\nPart One: Submit the form and payment below and then move on to the second part with the link below. \nStart with Part One:\n\n\n                \n\n                        \n                            Pediatrics 1 - Tulsa/Broken Arrow\, OK\n                             \n                        \n        \n        	Step 1 of 2\n        	 \n            \n                50%\n            \n                        \n					DNS: "Pediatrics 1" 3-Day CourseSeptember 5-7 2025Current Professional Status(Required)--Select Current Professional Status--Full-Time Professional StudentI am a Healthcare ProfessionalI am a student currently enrolled in School(Required)\n								\n								I am a student currently enrolled in School\n							Your Name(Required)\n                            \n                            \n                                                    First\n                                                    \n                                                \n                            \n                                                    Middle\n                                                    \n                                                \n                            \n                            \n                        Your Name(Required)\n                            \n                            \n                            \n                            \n                                                            Last\n                                                            \n                                                        \n                            \n                                                        Suffix (DC\, OT\, PT\, etc) or N/A\n                                                        \n                                                    \n                        Your Email Address(Required)\n                            \n                        Phone No.(Required)Fax No.URL to Your Website or SchoolMailing Address    \n                    \n                         \n                                        Street Address\n                                        \n                                   \n                                        Address Line 2\n                                        \n                                    \n                                    City\n                                    \n                                 \n                                        State\n                                        StateAlabamaAlaskaAmerican SamoaArizonaArkansasCaliforniaColoradoConnecticutDelawareDistrict of ColumbiaFloridaGeorgiaGuamHawaiiIdahoIllinoisIndianaIowaKansasKentuckyLouisianaMaineMarylandMassachusettsMichiganMinnesotaMississippiMissouriMontanaNebraskaNevadaNew HampshireNew JerseyNew MexicoNew YorkNorth CarolinaNorth DakotaNorthern Mariana IslandsOhioOklahomaOregonPennsylvaniaPuerto RicoRhode IslandSouth CarolinaSouth DakotaTennesseeTexasUtahU.S. Virgin IslandsVermontVirginiaWashingtonWest VirginiaWisconsinWyomingArmed Forces AmericasArmed Forces EuropeArmed Forces Pacific\n                                      \n                                    ZIP Code\n                                    \n                                \n                    \n                Please enter your professional state & license information or N/A to all that do not applyState #1Suffix & License #1State #2Suffix & License #2State #3Suffix & License #3How did you hear about us?(Required)\n                    \n                    \n                          \n                    \n                \n                \n                    \n                        Add me to your upcoming courses mailing list\n								\n								Add me to your upcoming courses mailing list\n							I understand each step of the 2-Step Registration process must be completed to reserve my spot at this course(Required)\n								\n								I understand each step of the 2-Step Registration process must be completed to reserve my spot at this course\n							Course Notes Policy​: Hard copies will not be available at the course location. Upon your completion of Step 2: Prague School registration and payment of €80. You should receive an automatic email with a link to download the course notes from the Prague school. The course notes you receive are required to be brought to the course site in a paper or digital format. This email goes to the email address you provide during your registration with the Prague School. If you do not receive this email within one hour after a payment\, please contact info@rehabps.com and request the course notes. In your request please provide your name\, name of the course\, course location\, and course date. Please\, everyone\, check for your notes in your inbox ahead of time to ensure you have everything you require for our course. If you do not find the course notes\, please contact the Prague School as soon as possible. If you need any more clarification can contact us at doc@aces4me.com.(Required)\n								\n								I have read and understood the course note policy below & know that course notes will not be provided on site but will be provided by the Prague school by email following this registration and prior to the initiation of the course.\n							Course Notes Policy​: Hard copies will not be available at the course location. Upon your completion of Step 2: Prague School registration and payment of €80. You should receive an automatic email with a link to download the course notes from the Prague school. The course notes you receive are required to be brought to the course site in a paper or digital format. This email goes to the email address you provide during your registration with the Prague School. If you do not receive this email within one hour after a payment\, please contact info@rehabps.com and request the course notes. In your request please provide your name\, name of the course\, course location\, and course date. Please\, everyone\, check for your notes in your inbox ahead of time to ensure you have everything you require for our course. If you do not find the course notes\, please contact the Prague School as soon as possible. If you need any more clarification can contact us at doc@aces4me.com.By checking this box to confirm I have read\, agreed to\, and understand the financial policy & Photo Release policy below(Required)\n								\n								By checking this box to confirm I have read\, agreed to\, and understand the financial policy & Photo Release policy below\n							Financial Policy: Every attempt is made to offer this course as publicized; however\, ACES reserves the right to adjust program location\, dates\, times\, and instructor in order to accommodate for unexpected occurrences and to cancel them if warranted. Registrants are personally responsible for their personal travel to and from A.C.E.S. courses. A.C.E.S. is not responsible for any expense incurred by registrants due to adjustments or cancellations. A $75 processing fee will be charged per program for any ACES4ME.COM approved tuition refund request if the registrant provides written notice of cancellation to Dr. Morris at doc@aces4me.com within two weeks of their initial ACES4ME.COM registration\, as long as it is at least 4 weeks prior to the day and start time of the initial course. Thereafter\, tuition is non-refundable and registrants can transfer their registration fees to another future ACES4ME.COM course at no extra charge. We offer transference of a previous ACES4ME.COM course tuition to a later A.CACES4ME.COM course as long as notice is given at least 24 hours prior to the start of the previous course\, as long as there are still seats available at the new course\, and that the transfer is acknowledged by ACES4ME.COM personnel in writing. All registrants assume personal responsibility for their own safety and welfare while participating in ACES4ME.COM courses. ACES4ME.COM makes no representation either directly or indirectly that the substantive matter being presented is within the respective scope of licensing. *Please note: The €80/Prague School registration fee is non-refundable. ​\n\nPhoto Release Policy: I grant to ACES4ME.COM/Craig E. Morris\, DC\, its representatives\, and employees the right to take photographs of me and/or my property in connection with the above-identified subject. I authorize ACES4ME.COM/Craig E. Morris\, DC\, its assigns and transferees to copyright\, use and publish the same in print and/or electronically.​I agree that ACES4ME.COM/Craig E. Morris\, DC\, may use such photographs of me with or without my name and for any lawful purpose\, including for example class photos\, publicity\, illustration\, advertising\, and web content.Payment Information"Peds 1"\n					\n					\n						Price:\n						\n					\n					\n				Professional Student Payment"Peds 1"\n					\n					\n						Price:\n						\n					\n					\n				Healthcare Professional PaymentTotal\n							\n						This field is hidden when viewing the formCoupon Credit Card\n			\n          \n            \n            \n            \n            \n            \n            \n            \n            \n            \n            \n            \n            \n            \n        \n             \n                        \n                        \n\n\nThen Complete Part Two:\nSubmit Prague School Payment Registration
URL:https://aces4me.com/dns-pediatrics-1-course-tulsa/broken-arrow-ok-september-5-7-2025
LOCATION:Stoney Creek Hotel & Conference Center\, 200 W. Albany\, Broken Arrow\, OK\, 74014\, United States
CATEGORIES:Upcoming Events
ATTACH;FMTTYPE=image/png:https://aces4me.com/wp-content/uploads/2025/01/Sept-5-7-Pediatrics-Course-Update.png
ORGANIZER;CN="Craig E. Morris%2C D.C.":MAILTO:doc@aces4me.com
END:VEVENT
BEGIN:VEVENT
DTSTART;VALUE=DATE:20250405
DTEND;VALUE=DATE:20250407
DTSTAMP:20260422T152640
CREATED:20250113T165446Z
LAST-MODIFIED:20250418T181558Z
UID:1464-1743811200-1743983999@aces4me.com
SUMMARY:DNS Practitioner's Course A - Tulsa/Broken Arrow\, OK April 5-6\, 2025
DESCRIPTION:2-Day of DNS A from April 5-6\, 2025 \nCourse A Details: 18-hours \nDynamic Neuromuscular Stabilization according to Kolar (DNS)\nA Developmental Kinesiology Approach\nTeaching Hours:  Sat 8 am -6:30 pm & Sun 8 am- 6:30 pm \nDNS “A” Course & Certification Summary: \n\nImprove understanding of the basic principles of developmental kinesiology\, emphasizing development during the first year of life.\nIdentify and describe critical milestones in human development.\nIntroduce the three levels of sensorimotor control in functional assessment and treatment.\nDemonstrate the relationship between development during the first year of life and pathology of the locomotor system in adulthood.\nIntroduce new terminologies pertinent to rehabilitation\, such as functional joint centration\, punctum fixum\, punctum mobile and the integrated stabilizing system of the spine.\nDefine ideal postural stabilization from a developmental perspective: intra-abdominal pressure regulation\, the dual role of the diaphragm in stabilization and respiration\, and stabilization via co-contraction.\nIdentify common stereotypes of faulty postural stabilization (“open scissors syndrome\,” forward drawn posture\, backward drawn posture\, “hourglass syndrome”).\nExplain and demonstrate biomechanics of undifferentiated\, ipsilateral and contralateral postural-locomotion patterns; closed and opened kinematic chains\, stepping forward and supporting function.\nEvaluate and correct poor respiratory patterns.\nDemonstrate the correlation between poor respiration patterns and functional pathology of the locomotor system.\nAssess the integrated stabilizing system of the spine visually and by utilizing dynamic functional tests.\nIntegrate corrective exercises based on the DNS functional tests and developmental positions: exercise in undifferentiated static positions; position transfer during locomotor function; exercise progression using unstable surfaces; increased difficulty of the exercises utilizing resistance\, dual tasking and other challenges.\nClarify how DNS corrective exercises can integrate with other exercise strategies.\nCover the basics of the application of the DNS concept in sports training.\nProvide essential clinical management explanations for clinicians to better integrate the DNS approach in their regular practice\, including patient education.\nOptimally prepare students for the next level of training (Course “B”).\n\n  \nDownload a PDF of the course itinerary here: Course A Information – April 2025 \nA Certificate of ATTENDANCE will be awarded by local instructor\nOPTIONAL EXAMINATION\nParticipants who would like to participate in the educational track towards becoming a certified practitioner can take this exam. Go to the Prague School website – www.rehabps.com – for more information. The DNS A test is completely automatic and online. \nUpon successful completion and passing of the test\, a Certificate of ACHIEVEMENT from Prague School of Rehabilitation will be awarded. \n\n  \nVENUE: \n\nStoney Creek Hotel & Conference Center\n200 W. Albany Street\nBroken Arrow\, OK 74012\n“Brick” Conference room (2nd Floor)\n\n\nReservations Link →\n\nUse discount code “Rehab Doc” at time of reservation.\n  \n\n\nCourse Instructor: Dr. Craig Morris\nD.C. | Certified International Instructor | Retired Clinical Professor\n \nCraig E. Morris\, studied extensively with the late Professor’s Karel Lewit and Vladimir Janda of the Department of Rehabilitation and Manual Medicine\, Charles University\, Prague\, Czech Republic since the early 1990’s. \n​In addition\, Dr. Morris studied and collaborated with Professor Pavel Kolář individually and in organized courses in Europe and North America since 2000 and has utilize these approaches in clinical practice for more than 2 decades. \n​Dr. Morris is one of the original five clinicians (in 2007) from around the world\, and the first Doctor of Chiropractic in North America\, to become a certified International Instructor of Dynamic Neuromuscular Stabilization according to Kolář. He also provided Professor Kolar with the “DNS” name at the initial 2007 International Instructors’ meeting at Charles University! \nView full bio → \n\n\n  \nPayment Details:\nHealthcare Professional: $595 \nActive Students: $395 \n  \nNOTE: Our class sizes are limited to 15 students\, so sign up quickly!\n\nRegistration Must Be Completed in Two Parts:\nSubmit the form and payment below as part one and then move on to the second part with the link below for the Prague School Certification payment. \n  \nStart with Part One (aces4me.com Course Registration):\n\n  \nThen Complete Part Two (Required for Course Attendance\, Notes & Certification):\nSubmit Prague School Payment Registration
URL:https://aces4me.com/event/dns-practitioners-course-a-tulsa-broken-arrow-ok-april-5-6-2025
LOCATION:Stoney Creek Hotel & Conference Center\, 200 W. Albany\, Broken Arrow\, OK\, 74014\, United States
CATEGORIES:Past Events,Upcoming Events
ATTACH;FMTTYPE=image/png:https://aces4me.com/wp-content/uploads/2025/01/DNS-A-Course-April-5-6.png
ORGANIZER;CN="Craig E. Morris%2C D.C.":MAILTO:doc@aces4me.com
END:VEVENT
END:VCALENDAR